BEGIN:VCALENDAR
VERSION:2.0
PRODID:-//wp-events-plugin.com//7.2.3.1//EN
TZID:Europe/Berlin
X-WR-TIMEZONE:Europe/Berlin
BEGIN:VEVENT
UID:242@choere-im-oberland.de
DTSTART;TZID=Europe/Berlin:20250121T193000
DTEND;TZID=Europe/Berlin:20250121T210000
DTSTAMP:20250120T080135Z
URL:https://www.choere-im-oberland.de/events/chorprobe-liedertafel-holzkir
 chen-e-v/
SUMMARY:Chorprobe Liedertafel Holzkirchen e.V.
DESCRIPTION:
CATEGORIES:Chorprobe
LOCATION:Festsaal Kulturzentrum Holzkirchen\, Marktplatz 1\, Holzkirchen\, 
 Bayern\, 83607\, Deutschland
X-APPLE-STRUCTURED-LOCATION;VALUE=URI;X-ADDRESS=Marktplatz 1\, Holzkirchen\
 , Bayern\, 83607\, Deutschland;X-APPLE-RADIUS=100;X-TITLE=Festsaal Kulturz
 entrum Holzkirchen:geo:0,0
END:VEVENT
BEGIN:VTIMEZONE
TZID:Europe/Berlin
X-LIC-LOCATION:Europe/Berlin
BEGIN:STANDARD
DTSTART:20241027T020000
TZOFFSETFROM:+0200
TZOFFSETTO:+0100
TZNAME:CET
END:STANDARD
END:VTIMEZONE
END:VCALENDAR