BEGIN:VCALENDAR
VERSION:2.0
PRODID:-//wp-events-plugin.com//7.2.3.1//EN
TZID:Europe/Berlin
X-WR-TIMEZONE:Europe/Berlin
BEGIN:VEVENT
UID:245@choere-im-oberland.de
DTSTART;TZID=Europe/Berlin:20250101T190000
DTEND;TZID=Europe/Berlin:20250101T210000
DTSTAMP:20250126T173004Z
URL:https://www.choere-im-oberland.de/events/chorprobe-maenner-wollen-sing
 en/
SUMMARY:Chorprobe Männer-Wollen-Singen
DESCRIPTION:Am 27. Jan. findet bei uns eine offene Probe statt\, wo jeder i
 nteressierte MANN einfach mal hinein-schnuppern kann
CATEGORIES:Chorprobe
LOCATION:Gasthaus zum Bräu\, Bergstr. 60\, Oberdarching / Valley\, 83626\,
  Deutschland
X-APPLE-STRUCTURED-LOCATION;VALUE=URI;X-ADDRESS=Bergstr. 60\, Oberdarching 
 / Valley\, 83626\, Deutschland;X-APPLE-RADIUS=100;X-TITLE=Gasthaus zum Br
 äu:geo:0,0
END:VEVENT
BEGIN:VTIMEZONE
TZID:Europe/Berlin
X-LIC-LOCATION:Europe/Berlin
BEGIN:STANDARD
DTSTART:20241027T020000
TZOFFSETFROM:+0200
TZOFFSETTO:+0100
TZNAME:CET
END:STANDARD
END:VTIMEZONE
END:VCALENDAR