BEGIN:VCALENDAR
VERSION:2.0
PRODID:-//wp-events-plugin.com//7.2.3.1//EN
TZID:Europe/Berlin
X-WR-TIMEZONE:Europe/Berlin
BEGIN:VEVENT
UID:241@choere-im-oberland.de
DTSTART;TZID=Europe/Berlin;VALUE=DATE:20251122
DTEND;TZID=Europe/Berlin;VALUE=DATE:20251125
DTSTAMP:20250119T113304Z
URL:https://www.choere-im-oberland.de/events/konzert-chorgemeinschaft-irsc
 henberg-2/
SUMMARY:Konzert Chorgemeinschaft Irschenberg
DESCRIPTION:
CATEGORIES:Podestreservierung
END:VEVENT
BEGIN:VTIMEZONE
TZID:Europe/Berlin
X-LIC-LOCATION:Europe/Berlin
BEGIN:STANDARD
DTSTART:20251026T020000
TZOFFSETFROM:+0200
TZOFFSETTO:+0100
TZNAME:CET
END:STANDARD
END:VTIMEZONE
END:VCALENDAR