BEGIN:VCALENDAR
VERSION:2.0
PRODID:-//wp-events-plugin.com//7.2.3.1//EN
TZID:Europe/Berlin
X-WR-TIMEZONE:Europe/Berlin
BEGIN:VEVENT
UID:246@choere-im-oberland.de
DTSTART;TZID=Europe/Berlin:20250727T150000
DTEND;TZID=Europe/Berlin:20250727T183000
DTSTAMP:20250214T132639Z
URL:https://www.choere-im-oberland.de/events/weyhalla-soulchor-friends-fam
 ily-sommerkonzert/
SUMMARY:WeyHalla Soulchor - Friends &amp\; Family Sommerkonzert
DESCRIPTION:
CATEGORIES:Konzert
LOCATION:Musikcafe WeyHalla - Biergarten\, Mangfallweg 24\, 83629 Weyarn\, 
 Bayern\, 83629\, Landkreis Miesbach\, Deutschland
X-APPLE-STRUCTURED-LOCATION;VALUE=URI;X-ADDRESS=Mangfallweg 24\, 83629 Weya
 rn\, Bayern\, 83629\, Landkreis Miesbach\, Deutschland;X-APPLE-RADIUS=100;
 X-TITLE=Musikcafe WeyHalla - Biergarten:geo:0,0
END:VEVENT
BEGIN:VTIMEZONE
TZID:Europe/Berlin
X-LIC-LOCATION:Europe/Berlin
BEGIN:DAYLIGHT
DTSTART:20250330T030000
TZOFFSETFROM:+0100
TZOFFSETTO:+0200
TZNAME:CEST
END:DAYLIGHT
END:VTIMEZONE
END:VCALENDAR